Workbook
Name QtyRange: 'Order Form'!$C$17:$C$46

Sheet Form Reference
A1: TA Names | B1: Restricted Components (Max 3)
A2: Alawad, Abdullah Saleh A <aalawad2@illinois.edu> | B2: Microcontroller - ATmega328p (32TQFP)
A3: Bai, Junyan <junyanb2@illinois.edu> | B3: Microcontroller - ATmega32u4 (44TQFP)
A4: Chatterjee, Aniket <aniketc2@illinois.edu> | B4: Microcontroller - ESP32-S3-WROOM
A5: Cui, Shengkun <scui8@illinois.edu> | B5: Microcontroller - STM32F103C8 (48LQFP)
A6: Duan, Shiyuan <sduan9@illinois.edu> | B6: Microcontroller - STM32F401RBT6 (64LQFP)
A7: Dumasius, Lukas <lukasd2@illinois.edu>
A8: Fuss, Daegan <dfuss2@illinois.edu>
A9: Huang, Tianda <tiandah2@illinois.edu>
A10: Jiang, Tim <chij2@illinois.edu>
A11: Lee, Alex <alexl5@illinois.edu>
A12: Li, Pusong <pli27@illinois.edu>
A13: Meshram, Pragati <psm12@illinois.edu>
A14: Pang, Wesley <qpang2@illinois.edu>
A15: Tang, Eric <leweit2@illinois.edu>
A16: Xiong, Denghan <denghan2@illinois.edu>
A17: Zhang, Zhuoer <zhuoer3@illinois.edu>
A18: Zhou, Yushi <yushiz2@illinois.edu>

Sheet Order Form
B3: Self Service Inventory
B5: Eshop SMD Inventory
B7: E-Shop Webpage
A9: TA Name: | C9: Total Items Requested: | D9: =COUNTIF(QtyRange, ">0") -> 0
A10: Group Number: | C10: Total Quantity: | D10: =SUM(QtyRange) -> 0
A11: Date: | B11: =TODAY() -> 46267
B13: Select components from the dropdown and enter quantity (max 20). Microcontrollers (max 3). Submit to your TA when complete.
B16: Component | C16: Quantity
D17: =IF(ISNUMBER(MATCH(B17, 'Form Reference'!$B$2:$B$10, 0)), "Max Qty: 3") -> FALSE
D18: =IF(ISNUMBER(MATCH(B18, 'Form Reference'!$B$2:$B$10, 0)), "Max Qty: 3") -> FALSE
D19: =IF(ISNUMBER(MATCH(B19, 'Form Reference'!$B$2:$B$10, 0)), "Max Qty: 3") -> FALSE
D20: =IF(ISNUMBER(MATCH(B20, 'Form Reference'!$B$2:$B$10, 0)), "Max Qty: 3") -> FALSE
D21: =IF(ISNUMBER(MATCH(B21, 'Form Reference'!$B$2:$B$10, 0)), "Max Qty: 3") -> FALSE
D22: =IF(ISNUMBER(MATCH(B22, 'Form Reference'!$B$2:$B$10, 0)), "Max Qty: 3") -> FALSE
D23: =IF(ISNUMBER(MATCH(B23, 'Form Reference'!$B$2:$B$10, 0)), "Max Qty: 3") -> FALSE
D24: =IF(ISNUMBER(MATCH(B24, 'Form Reference'!$B$2:$B$10, 0)), "Max Qty: 3") -> FALSE
D25: =IF(ISNUMBER(MATCH(B25, 'Form Reference'!$B$2:$B$10, 0)), "Max Qty: 3") -> FALSE
D26: =IF(ISNUMBER(MATCH(B26, 'Form Reference'!$B$2:$B$10, 0)), "Max Qty: 3") -> FALSE
D27: =IF(ISNUMBER(MATCH(B27, 'Form Reference'!$B$2:$B$10, 0)), "Max Qty: 3") -> FALSE
D28: =IF(ISNUMBER(MATCH(B28, 'Form Reference'!$B$2:$B$10, 0)), "Max Qty: 3") -> FALSE
... D46: =IF(ISNUMBER(MATCH(B46, 'Form Reference'!$B$2:$B$10, 0)), "Max Qty: 3") -> FALSE

Sheet Eshop SMD Inventory
A1: # | B1: Component | C1: Description | D1: Part Number | E1: Alt. Vendor Part Number | F1: Datasheet
A2: 1 | B2: Capacitor - 0.1µF 10% / 10V (0402) | C2: CAP CER 0.1µF 10V X5R 0402 | D2: C0402C104K8PACTU | E2: 399-C0402C104K8PACTUTR-ND | F2: Datasheet
A3: 2 | B3: Capacitor - 0.01µF / 16V (0603) | C3: CAP CER 0.01 µF 16V X7R 0603 | D3: C0603C103K4RAC7867 | E3: 399-C0603C103K4RACTUTR-ND | F3: Datasheet
A4: 3 | B4: Capacitor - 0.1µF 10% / 16V (0603) | C4: CAP CER 0.1UF 16V X7R 0603 | D4: C0603C104K4RAC7867 | E4: 399-C0603C104K4RACTUCT-ND | F4: Datasheet
A5: 4 | B5: Capacitor - 0.22µF / 10V (0603) | C5: CAP CER 0.22UF 10V X7R 0603 | D5: C0603C224K8RAC7867 | E5: 399-C0603C224K8RACTUCT-ND | F5: Datasheet
A6: 5 | B6: Capacitor - 1µF / 6.3V (0603) | C6: CAP CER 1UF 6.3V X5R 0603 | D6: C0603C105K9PAC7867 | E6: 399-C0603C105K9PACTUCT-ND | F6: Datasheet
A7: 6 | B7: Capacitor - 4.7µF / 6.3V (0603) | C7: CAP CER 4.7UF 6.3V X5R 0603 | D7: C0603C475K9PAC7867 | E7: 399-C0603C475K9PACTUCT-ND | F7: Datasheet
A8: 7 | B8: Capacitor - 10µF / 20% / 10V (0603) | C8: CAP CER 10UF 10V X5R 0603 | D8: GMC10X5R106M10NT | E8: 2571-GMC10X5R106M10NTTR-ND | F8: Datasheet
A9: 8 | B9: Capacitor - 10pF / 50V (0603) | C9: CAP CER 10PF 50V C0G/NP0 0603 | D9: 0603N100J500CT | E9: 1292-1471-1-ND | F9: Datasheet
A10: 9 | B10: Capacitor - 22pF / 50V (0603) | C10: CAP CER 22PF 50V C0G/NP0 0603 | D10: 0603N220J500CT | E10: 1292-1503-1-ND | F10: Datasheet
A11: 10 | B11: Capacitor - 0.001 µF / 50V (0805) | C11: CAP CER .001µF 50V X7R 0805 | D11: CL21B102KBANNNC | E11: 1276-1020-2-ND | F11: Datasheet
A12: 11 | B12: Capacitor - 0.01µF / 100V (0805) | C12: CAP CER .01µF 100V X7R 0805 | D12: CL21B103KCANNNC | E12: 1276-1249-2-ND | F12: Datasheet
A13: 12 | B13: Capacitor - 0.1µF / 25V (0805) | C13: CAP CER 0.1UF 25V Y5V 0805 | D13: CL21F104ZAANNNC | E13: 1276-1286-1-ND | F13: Datasheet
... A25: 24 | B25: Capacitor - 1µF / 10% / 16V (1206) | C25: CAP CER X7R | D25: ECJ-3FB1C105K | E25: PCC2471TR-ND | F25: Datasheet
A26: 25 | B26: Capacitor - 120pF / / 1206
A27: 26 | B27: Capacitor - 4.7nF / / 1206
A28: 27 | B28: Comparator - LM393DR2 (8SOIC) | C28: IC COMP DUAL OFFSET LV 8SOIC | D28: LM393DR2 | F28: Datasheet
A29: 28 | B29: Connector - Edge Launch SMA | C29: CONN SMA JACK STR 50OHM EDGE MNT | D29: SMA-J-P-H-ST-EM1 | E29: SAM8857-ND
A30: 29 | B30: Connector - Micro USB-B | C30: CONN RCPT USB2.0 MICRO B SMD R/A | D30: 10118194-0001LF | E30: 609-4618-1-ND | F30: Datasheet
A31: 30 | B31: Connector - USB C (Through-Hole) | C31: USB 2.0 Receptacle Connector 24 (16+8 Dummy) Position Through Hole, Right Angle | D31: USB4085-GF-A | E31: 2073-USB4085-GF-ATR-ND | F31: Datasheet
A32: 31 | B32: Connector - USB C (Surface Mount) | C32: USB 2.0 Receptacle Connector 24 (16+8 Dummy) Position Surface Mount, Right Angle | D32: USB4105-GF-A-060 | E32: 2073-USB4105-GF-A-060TR-ND | F32: Datasheet
A33: 32 | B33: Crystal - 40.0000MHZ 10PF | C33: CRYSTAL 40.0000MHZ 10PF SMD | D33: ECS-400-10-37B2-CKY-TR | E33: 50-ECS-400-10-37B2-CKY-TRCT-ND
A34: 33 | B34: Crystal - 8.0000MHZ 8PF | C34: CRYSTAL 8.0000MHZ 8PF SMD | D34: ECS-80-8-30BQ-JES-TR | E34: 50-ECS-80-8-30BQ-JES-CT-ND
A35: 34 | B35: Diode - 1SMB5919BT3 | C35: DIODE ZENER 5.6V 3W SMB | D35: 1SMB5919BT3 | F35: Datasheet
A36: 35 | B36: Diode - 82400102 TVS 5VWM 7.7VC (SOT23-6L) | C36: TVS DIODE 5VWM 7.7VC SOT23-6L | D36: 82400102 | E36: 732-4473-1-ND
A37: 36 | B37: Diode - BAT54SLT1G (SOT23) | C37: DIODE ARR SCHOTT 30V 200MA SOT23 | D37: BAT54SLT1G | E37: BAT54SLT1GOSCT-ND | F37: Datasheet
A38: 37 | B38: Diode - CDBA540-HF (DO214AC) | C38: DIODE SCHOTTKY 40V 5A DO214AC | D38: CDBA540-HF | E38: 641-1707-1-ND | F38: Datasheet
A39: 38 | B39: Diode - SP0503BAHTG (SOT143-4) | C39: TVS DIODE 5.5VWM 8.5VC SOT143-4 | D39: SP0503BAHTG | E39: F2715CT-ND | F39: Datasheet
A40: 39 | B40: Diode - UCC25705DGKTR (8VSSOP) | C40: IC REG CTRLR MULT TOP 8VSSOP | D40: UCC25705DGKTR | E40: 296-UCC25705DGKTR-ND | F40: Datasheet
A41: 40 | B41: Diode - UCC27324DGNRG4 (8MSOP) | C41: IC GATE DRVR LOW-SIDE 8MSOP | D41: UCC27324DGNRG4 | F41: Datasheet
A42: 41 | B42: Diode - SBM1040-13-F Powermite 3 | C42: 10A LOW VF SCHOTTKY BARRIER RECTIFIER | D42: SBM1040-13-F | F42: Datasheet
A43: 42 | B43: Ferrite Bead - MI0805K400R-10 (0805) | C43: 1 Power, Signal Line Ferrite Bead 0805 (2012 Metric) 2A 50mOhm | D43: MI0805K400R-10 | E43: 240-2389-1-ND | F43: Datasheet
A44: 43 | B44: Ferrite Bead - LI0805H121R-10 (0805) | C44: 1 Power, Signal Line Ferrite Bead | D44: LI0805H121R-10 | E44: 240-2383-2-ND | F44: Datasheet
A45: 44 | B45: Fuse - 0451002.MRL | C45: FUSE BRD MNT 2A 125VAC/VDC 2SMD | D45: 0451002.MRL | E45: F2581TR-ND | F45: Datasheet
A46: 45 | B46: LED - GREEN LTST-C171GKT (0805) | C46: LED GREEN CLEAR CHIP SMD | D46: LTST-C171GKT | E46: 160-1423-1-ND
A47: 46 | B47: LED - RED LTST-C150CKT (1206) | C47: LED RED CLEAR 1206 SMD | D47: LTST-C150CKT | F47: Datasheet
A48: 47 | B48: Microcontroller - ATmega328p (32TQFP) | C48: IC MCU 8BIT 32KB FLASH 32TQFP | D48: ATMEGA328P-AUR | E48: ATMEGA328P-AURCT-ND | F48: Datasheet
A49: 48 | B49: Microcontroller - ATmega32u4 (44TQFP) | C49: IC MCU 8BIT 32KB FLASH 44TQFP | D49: ATMEGA32U4-AUR | E49: ATMEGA32U4-AURCT-ND | F49: Datasheet
A50: 49 | B50: Microcontroller - ESP32-S3-WROOM | C50: RF TXRX MODULE BT PCB TRACE SMD | D50: ESP32-S3-WROOM-1-N16 | E50: 1965-ESP32-S3-WROOM-1-N16CT-ND | F50: Datasheet
A51: 50 | B51: Microcontroller - STM32F103C8 (48LQFP) | C51: IC MCU 32BIT 64KB FLASH 48LQFP | D51: STM32F103C8T6TR | E51: 497-17666-1-ND | F51: Datasheet
...

Sheet Inductors (Ask in E-Shop)
A1: Component | B1: Description | C1: Part Number | D1: Datasheet
A2: Surface Mount Wideband RF Transformers | B2: Surface mount wideband transformers / 300 V interwinding isolation, 1/4 Watt RF input power / 250 mA max current rating | C2: PWB-1-AL | D2: Datasheet
A3: Surface Mount Wideband RF Transformers | B3: Surface mount wideband transformers / 300 V interwinding isolation, 1/4 Watt RF input power / 250 mA max current rating | C3: PWB-1.5-AL | D3: Datasheet
A4: Surface Mount Wideband RF Transformers | B4: Surface mount wideband transformers / 300 V interwinding isolation, 1/4 Watt RF input power / 250 mA max current rating | C4: PWB-2-AL | D4: Datasheet
A5: Surface Mount Wideband RF Transformers | B5: Surface mount wideband transformers / 300 V interwinding isolation, 1/4 Watt RF input power / 250 mA max current rating | C5: PWB-4-AL | D5: Datasheet
A6: Surface Mount Wideband RF Transformers | B6: Surface mount wideband transformers / 300 V interwinding isolation, 1/4 Watt RF input power / 250 mA max current rating | C6: PWB-16-AL | D6: Datasheet
A7: Surface Mount Wideband RF Transformers | B7: Surface mount wideband transformers / 300 V interwinding isolation, 1/4 Watt RF input power / 250 mA max current rating | C7: PWB1010L | D7: Datasheet
A8: Surface Mount Wideband RF Transformers | B8: Surface mount wideband transformers / 300 V interwinding isolation, 1/4 Watt RF input power / 250 mA max current rating | C8: PWB1010-1L | D8: Datasheet
A9: Surface Mount Wideband RF Transformers | B9: Surface mount wideband transformers / 300 V interwinding isolation, 1/4 Watt RF input power / 250 mA max current rating | C9: PWB1015L | D9: Datasheet
A10: Surface Mount Wideband RF Transformers | B10: Surface mount wideband transformers / 300 V interwinding isolation, 1/4 Watt RF input power / 250 mA max current rating | C10: PWB1040L | D10: Datasheet
A11: Surface Mount Wideband RF Transformers | B11: Surface mount wideband transformers / 300 V interwinding isolation, 1/4 Watt RF input power / 250 mA max current rating | C11: PWB-1-BL | D11: Datasheet
A12: Surface Mount Wideband RF Transformers | B12: Surface mount wideband transformers / 300 V interwinding isolation, 1/4 Watt RF input power / 250 mA max current rating | C12: PWB-1.5-BL | D12: Datasheet
... A139: Low Pass LC Filter Modules | B139: 500 MHz | C139: P3LP-507L | D139: Datasheet
A140: Chip Inductors - 0603CS (1608) | B140: 1.6 @ 250MHz | D140: Datasheet
A141: Chip Inductors - 0603CS (1608) | B141: 1.8 @ 250MHz | D141: Datasheet
A142: Chip Inductors - 0603CS (1608) | B142: 2.2 @ 250MHz | D142: Datasheet
A143: Chip Inductors - 0603CS (1608) | B143: 3.3 @ 250MHz | D143: Datasheet
A144: Chip Inductors - 0603CS (1608) | B144: 3.6 @ 250MHz | D144: Datasheet
A145: Chip Inductors - 0603CS (1608) | B145: 3.9 @ 250MHz | D145: Datasheet
A146: Chip Inductors - 0603CS (1608) | B146: 4.3 @ 250MHz | D146: Datasheet
A147: Chip Inductors - 0603CS (1608) | B147: 4.7 @ 250MHz | D147: Datasheet
A148: Chip Inductors - 0603CS (1608) | B148: 5.1 @ 250MHz | D148: Datasheet
A149: Chip Inductors - 0603CS (1608) | B149: 5.6 @ 250MHz | D149: Datasheet
A150: Chip Inductors - 0603CS (1608) | B150: 6.8 @ 250MHz | D150: Datasheet
A151: Chip Inductors - 0603CS (1608) | B151: 7.5 @ 250MHz | D151: Datasheet
... A246: Chip Inductors - 1812CS (4532) | B246: 33 @ 7.9MHz | D246: Datasheet
