Workbook
Name QtyRange: 'Order Form'!$C$17:$C$46

Sheet Form Reference
A1: TA Names | B1: Restricted Components (Max 3)
A2: Alawad, Abdullah Saleh A <aalawad2@illinois.edu> | B2: Microcontroller - ATmega328p (32TQFP)
A3: Bai, Junyan <junyanb2@illinois.edu> | B3: Microcontroller - ATmega32u4 (44TQFP)
A4: Chatterjee, Aniket <aniketc2@illinois.edu> | B4: Microcontroller - ESP32-S3-WROOM
A5: Cui, Shengkun <scui8@illinois.edu> | B5: Microcontroller - STM32F103C8 (48LQFP)
A6: Duan, Shiyuan <sduan9@illinois.edu> | B6: Microcontroller - STM32F401RBT6 (64LQFP)
A7: Dumasius, Lukas <lukasd2@illinois.edu>
A8: Fuss, Daegan <dfuss2@illinois.edu>
A9: Huang, Tianda <tiandah2@illinois.edu>
A10: Jiang, Tim <chij2@illinois.edu>
A11: Lee, Alex <alexl5@illinois.edu>
A12: Li, Pusong <pli27@illinois.edu>
A13: Meshram, Pragati <psm12@illinois.edu>
A14: Pang, Wesley <qpang2@illinois.edu>
A15: Tang, Eric <leweit2@illinois.edu>
A16: Xiong, Denghan <denghan2@illinois.edu>
A17: Zhang, Zhuoer <zhuoer3@illinois.edu>
A18: Zhou, Yushi <yushiz2@illinois.edu>

Sheet Order Form
B3: Self Service Inventory
B5: Eshop SMD Inventory
B7: E-Shop Webpage
A9: TA Name: | C9: Total Items Requested: | D9: =COUNTIF(QtyRange, ">0") -> 0
A10: Group Number: | C10: Total Quantity: | D10: =SUM(QtyRange) -> 0
A11: Date: | B11: =TODAY() -> 46267
B13: Select components from the dropdown and enter quantity (max 20). Microcontrollers (max 3). Submit to your TA when complete.
B16: Component | C16: Quantity
D17: =IF(ISNUMBER(MATCH(B17, 'Form Reference'!$B$2:$B$10, 0)), "Max Qty: 3") -> FALSE
D18: =IF(ISNUMBER(MATCH(B18, 'Form Reference'!$B$2:$B$10, 0)), "Max Qty: 3") -> FALSE
D19: =IF(ISNUMBER(MATCH(B19, 'Form Reference'!$B$2:$B$10, 0)), "Max Qty: 3") -> FALSE
D20: =IF(ISNUMBER(MATCH(B20, 'Form Reference'!$B$2:$B$10, 0)), "Max Qty: 3") -> FALSE
D21: =IF(ISNUMBER(MATCH(B21, 'Form Reference'!$B$2:$B$10, 0)), "Max Qty: 3") -> FALSE
D22: =IF(ISNUMBER(MATCH(B22, 'Form Reference'!$B$2:$B$10, 0)), "Max Qty: 3") -> FALSE
D23: =IF(ISNUMBER(MATCH(B23, 'Form Reference'!$B$2:$B$10, 0)), "Max Qty: 3") -> FALSE
D24: =IF(ISNUMBER(MATCH(B24, 'Form Reference'!$B$2:$B$10, 0)), "Max Qty: 3") -> FALSE
D25: =IF(ISNUMBER(MATCH(B25, 'Form Reference'!$B$2:$B$10, 0)), "Max Qty: 3") -> FALSE
D26: =IF(ISNUMBER(MATCH(B26, 'Form Reference'!$B$2:$B$10, 0)), "Max Qty: 3") -> FALSE
D27: =IF(ISNUMBER(MATCH(B27, 'Form Reference'!$B$2:$B$10, 0)), "Max Qty: 3") -> FALSE
D28: =IF(ISNUMBER(MATCH(B28, 'Form Reference'!$B$2:$B$10, 0)), "Max Qty: 3") -> FALSE
... D46: =IF(ISNUMBER(MATCH(B46, 'Form Reference'!$B$2:$B$10, 0)), "Max Qty: 3") -> FALSE

Sheet Eshop SMD Inventory
A1: # | B1: Component | C1: Description | D1: Part Number | E1: Alt. Vendor Part Number | F1: Datasheet
A2: 1 | B2: Capacitor - 0.1µF 10% / 10V (0402) | C2: CAP CER 0.1µF 10V X5R 0402 | D2: C0402C104K8PACTU | E2: 399-C0402C104K8PACTUTR-ND | F2: Datasheet
A3: 2 | B3: Capacitor - 0.01µF / 16V (0603) | C3: CAP CER 0.01 µF 16V X7R 0603 | D3: C0603C103K4RAC7867 | E3: 399-C0603C103K4RACTUTR-ND | F3: Datasheet
A4: 3 | B4: Capacitor - 0.1µF 10% / 16V (0603) | C4: CAP CER 0.1UF 16V X7R 0603 | D4: C0603C104K4RAC7867 | E4: 399-C0603C104K4RACTUCT-ND | F4: Datasheet
A5: 4 | B5: Capacitor - 0.22µF / 10V (0603) | C5: CAP CER 0.22UF 10V X7R 0603 | D5: C0603C224K8RAC7867 | E5: 399-C0603C224K8RACTUCT-ND | F5: Datasheet
A6: 5 | B6: Capacitor - 1µF / 6.3V (0603) | C6: CAP CER 1UF 6.3V X5R 0603 | D6: C0603C105K9PAC7867 | E6: 399-C0603C105K9PACTUCT-ND | F6: Datasheet
A7: 6 | B7: Capacitor - 4.7µF / 6.3V (0603) | C7: CAP CER 4.7UF 6.3V X5R 0603 | D7: C0603C475K9PAC7867 | E7: 399-C0603C475K9PACTUCT-ND | F7: Datasheet
A8: 7 | B8: Capacitor - 10µF / 20% / 10V (0603) | C8: CAP CER 10UF 10V X5R 0603 | D8: GMC10X5R106M10NT | E8: 2571-GMC10X5R106M10NTTR-ND | F8: Datasheet
A9: 8 | B9: Capacitor - 10pF / 50V (0603) | C9: CAP CER 10PF 50V C0G/NP0 0603 | D9: 0603N100J500CT | E9: 1292-1471-1-ND | F9: Datasheet
A10: 9 | B10: Capacitor - 22pF / 50V (0603) | C10: CAP CER 22PF 50V C0G/NP0 0603 | D10: 0603N220J500CT | E10: 1292-1503-1-ND | F10: Datasheet
A11: 10 | B11: Capacitor - 0.001 µF / 50V (0805) | C11: CAP CER .001µF 50V X7R 0805 | D11: CL21B102KBANNNC | E11: 1276-1020-2-ND | F11: Datasheet
A12: 11 | B12: Capacitor - 0.01µF / 100V (0805) | C12: CAP CER .01µF 100V X7R 0805 | D12: CL21B103KCANNNC | E12: 1276-1249-2-ND | F12: Datasheet
A13: 12 | B13: Capacitor - 0.1µF / 25V (0805) | C13: CAP CER 0.1UF 25V Y5V 0805 | D13: CL21F104ZAANNNC | E13: 1276-1286-1-ND | F13: Datasheet
... A25: 24 | B25: Capacitor - 1µF / 10% / 16V (1206) | C25: CAP CER X7R | D25: ECJ-3FB1C105K | E25: PCC2471TR-ND | F25: Datasheet
A26: 25 | B26: Capacitor - 120pF / / 1206
A27: 26 | B27: Capacitor - 4.7nF / / 1206
A28: 27 | B28: Comparator - LM393DR2 (8SOIC) | C28: IC COMP DUAL OFFSET LV 8SOIC | D28: LM393DR2 | F28: Datasheet
A29: 28 | B29: Connector - Edge Launch SMA | C29: CONN SMA JACK STR 50OHM EDGE MNT | D29: SMA-J-P-H-ST-EM1 | E29: SAM8857-ND
A30: 29 | B30: Connector - Micro USB-B | C30: CONN RCPT USB2.0 MICRO B SMD R/A | D30: 10118194-0001LF | E30: 609-4618-1-ND | F30: Datasheet
A31: 30 | B31: Connector - USB C (Through-Hole) | C31: USB 2.0 Receptacle Connector 24 (16+8 Dummy) Position Through Hole, Right Angle | D31: USB4085-GF-A | E31: 2073-USB4085-GF-ATR-ND | F31: Datasheet
A32: 31 | B32: Connector - USB C (Surface Mount) | C32: USB 2.0 Receptacle Connector 24 (16+8 Dummy) Position Surface Mount, Right Angle | D32: USB4105-GF-A-060 | E32: 2073-USB4105-GF-A-060TR-ND | F32: Datasheet
A33: 32 | B33: Crystal - 40.0000MHZ 10PF | C33: CRYSTAL 40.0000MHZ 10PF SMD | D33: ECS-400-10-37B2-CKY-TR | E33: 50-ECS-400-10-37B2-CKY-TRCT-ND
A34: 33 | B34: Crystal - 8.0000MHZ 8PF | C34: CRYSTAL 8.0000MHZ 8PF SMD | D34: ECS-80-8-30BQ-JES-TR | E34: 50-ECS-80-8-30BQ-JES-CT-ND
A35: 34 | B35: Diode - 1SMB5919BT3 | C35: DIODE ZENER 5.6V 3W SMB | D35: 1SMB5919BT3 | F35: Datasheet
A36: 35 | B36: Diode - 82400102 TVS 5VWM 7.7VC (SOT23-6L) | C36: TVS DIODE 5VWM 7.7VC SOT23-6L | D36: 82400102 | E36: 732-4473-1-ND
A37: 36 | B37: Diode - BAT54SLT1G (SOT23) | C37: DIODE ARR SCHOTT 30V 200MA SOT23 | D37: BAT54SLT1G | E37: BAT54SLT1GOSCT-ND | F37: Datasheet
A38: 37 | B38: Diode - CDBA540-HF (DO214AC) | C38: DIODE SCHOTTKY 40V 5A DO214AC | D38: CDBA540-HF | E38: 641-1707-1-ND | F38: Datasheet
A39: 38 | B39: Diode - SP0503BAHTG (SOT143-4) | C39: TVS DIODE 5.5VWM 8.5VC SOT143-4 | D39: SP0503BAHTG | E39: F2715CT-ND | F39: Datasheet
A40: 39 | B40: Diode - UCC25705DGKTR (8VSSOP) | C40: IC REG CTRLR MULT TOP 8VSSOP | D40: UCC25705DGKTR | E40: 296-UCC25705DGKTR-ND | F40: Datasheet
A41: 40 | B41: Diode - UCC27324DGNRG4 (8MSOP) | C41: IC GATE DRVR LOW-SIDE 8MSOP | D41: UCC27324DGNRG4 | F41: Datasheet
A42: 41 | B42: Diode - SBM1040-13-F Powermite 3 | C42: 10A LOW VF SCHOTTKY BARRIER RECTIFIER | D42: SBM1040-13-F | F42: Datasheet
A43: 42 | B43: Ferrite Bead - MI0805K400R-10 (0805) | C43: 1 Power, Signal Line Ferrite Bead 0805 (2012 Metric) 2A 50mOhm | D43: MI0805K400R-10 | E43: 240-2389-1-ND | F43: Datasheet
A44: 43 | B44: Ferrite Bead - LI0805H121R-10 (0805) | C44: 1 Power, Signal Line Ferrite Bead | D44: LI0805H121R-10 | E44: 240-2383-2-ND | F44: Datasheet
A45: 44 | B45: Fuse - 0451002.MRL | C45: FUSE BRD MNT 2A 125VAC/VDC 2SMD | D45: 0451002.MRL | E45: F2581TR-ND | F45: Datasheet
A46: 45 | B46: LED - GREEN LTST-C171GKT (0805) | C46: LED GREEN CLEAR CHIP SMD | D46: LTST-C171GKT | E46: 160-1423-1-ND
A47: 46 | B47: LED - RED LTST-C150CKT (1206) | C47: LED RED CLEAR 1206 SMD | D47: LTST-C150CKT | F47: Datasheet
A48: 47 | B48: Microcontroller - ATmega328p (32TQFP) | C48: IC MCU 8BIT 32KB FLASH 32TQFP | D48: ATMEGA328P-AUR | E48: ATMEGA328P-AURCT-ND | F48: Datasheet
A49: 48 | B49: Microcontroller - ATmega32u4 (44TQFP) | C49: IC MCU 8BIT 32KB FLASH 44TQFP | D49: ATMEGA32U4-AUR | E49: ATMEGA32U4-AURCT-ND | F49: Datasheet
A50: 49 | B50: Microcontroller - ESP32-S3-WROOM | C50: RF TXRX MODULE BT PCB TRACE SMD | D50: ESP32-S3-WROOM-1-N16 | E50: 1965-ESP32-S3-WROOM-1-N16CT-ND | F50: Datasheet
A51: 50 | B51: Microcontroller - STM32F103C8 (48LQFP) | C51: IC MCU 32BIT 64KB FLASH 48LQFP | D51: STM32F103C8T6TR | E51: 497-17666-1-ND | F51: Datasheet
A52: 51 | B52: Microcontroller - STM32F401RBT6 (64LQFP) | C52: IC MCU 32BIT 128KB FLASH 64LQFP | D52: STM32F401RBT6 | E52: 497-17428-ND | F52: Datasheet
A53: 52 | B53: MOSFET - 2N7002MTF (SOT23-3) | C53: MOSFET N-CH 60V 115MA SOT23-3 | D53: 2N7002MTF | E53: 2N7002NCT-ND | F53: Datasheet
A54: 53 | B54: MOSFET - DMP2045U-7 (SOT23) | C54: MOSFET P-CH 20V 4.3A SOT23 | D54: DMP2045U-7 | E54: DMP2045U-7DICT-ND | F54: Datasheet
A55: 54 | B55: MOSFET - FDS6680A (8SOIC) | C55: MOSFET N-CH 30V 12.5A 8SOIC | D55: FDS6680A | E55: 4518-FDS6680ACT-ND | F55: Datasheet
A56: 55 | B56: MOSFET - IRFR18N15DPBF (DPAK) | C56: MOSFET N-CH 150V 18A DPAK | D56: IRFR18N15DPBF | F56: Datasheet
A57: 56 | B57: MOSFET - IRLL014NTRPBF (SOT223) | C57: MOSFET N-CH 55V 2A SOT223 | D57: IRLL014NTRPBF | E57: IRLL014NPBFCT-ND | F57: Datasheet
A58: 57 | B58: MOSFET - IRLML0030TRPBF (SOT23) | C58: MOSFET N-CH 30V 5.3A SOT23 | D58: IRLML0030TRPBF | E58: IRLML0030TRPBFCT-ND | F58: Datasheet
A59: 58 | B59: MOSFET - SI7846DP-T1 | D59: SI7846DP-T1 | F59: Datasheet
A60: 59 | B60: Op-Amp - LMV922MX | D60: LMV922MX | E60: 2156-LMV922MX-ND | F60: Datasheet
A61: 60 | B61: Op-Amp - UA741CDT (8SOIC) | C61: IC OPAMP GP 1 CIRCUIT 8SOIC | D61: UA741CDT | E61: 497-3075-1-ND | F61: Datasheet
A62: 61 | B62: Optocoupler - TLP112 MFSOP-6 | C62: High Speed Optocouplers 2500Vrms 1Mbit/s High Speed | D62: TLP112 | E62: 757-TLP112 | F62: Datasheet
A63: 62 | B63: Resistor - 0Ω (0603) | F63: Datasheet
A64: 63 | B64: Resistor - 22Ω / 1% / (1/10W) (0603) | C64: RES 22 OHM 1% 1/10W 0603 | D64: RC0603FR-0722RL | E64: 311-22.0HRCT-ND | F64: Datasheet
A65: 64 | B65: Resistor - 43.2Ω (0603) | F65: Datasheet
A66: 65 | B66: Resistor - 68.1Ω 1% (1/8W) (0603) | C66: Automotive AEC-Q200 Thick Film | D66: RK73H1JTTD68R1F | E66: 2019-RK73H1JTTD68R1FTR-ND | F66: Datasheet
A67: 66 | B67: Resistor - 150Ω (0603) | F67: Datasheet
A68: 67 | B68: Resistor - 182Ω (0603) | F68: Datasheet
A69: 68 | B69: Resistor - 240Ω 1% (1/10W) (0603) | C69: Automotive AEC-Q200 Thick Film | D69: CRCW060324RFKEA | E69: 541-240HTR-ND | F69: Datasheet
A70: 69 | B70: Resistor - 249Ω 1% (1/8W) (0603) | C70: Automotive AEC-Q200 Thick Film | D70: RK73H1JTTD2490F | E70: 2019-RK73H1JTTD2490FTR-ND | F70: Datasheet
A71: 70 | B71: Resistor - 330Ω (0603) | F71: Datasheet
A72: 71 | B72: Resistor - 332Ω (0603) | F72: Datasheet
A73: 72 | B73: Resistor - 1kΩ (0603) | F73: Datasheet
A74: 73 | B74: Resistor - 1.91kΩ 1% (1/8W) (0603) | C74: Automotive AEC-Q200 Thick Film | D74: RK73H1JTTD2490F | E74: 2019-RK73H1JTTD2490FTR-ND | F74: Datasheet
A75: 74 | B75: Resistor - 4.7kΩ (0603) | F75: Datasheet
A76: 75 | B76: Resistor - 10kΩ (0603) | F76: Datasheet
A77: 76 | B77: Resistor - 20.5kΩ (0603) | F77: Datasheet
A78: 77 | B78: Resistor - 23.7kΩ (0603) | F78: Datasheet
A79: 78 | B79: Resistor - 27.4kΩ (0603) | F79: Datasheet
A80: 79 | B80: Resistor - 34kΩ (0603) | F80: Datasheet
A81: 80 | B81: Resistor - 464kΩ 1% (1/10W) (0603) | C81: Automotive AEC-Q200 Thick Film | D81: RK73H1JTTD4643F | E81: 2019-RK73H1JTTD4643FTR-ND | F81: Datasheet
A82: 81 | B82: Resistor - 0Ω (1/8W) (0805) | C82: RES 0 OHM JUMPER 1/8W 0805 | D82: RMCF0805ZT0R00 | E82: RMCF0805ZT0R00CT-ND | F82: Datasheet
A83: 82 | B83: Resistor - 26.1Ω 1%(1/4W) (0805) | C83: Automotive AEC-Q200 Thick Film | D83: RK73H2ATTD26R1F | E83: 2019-RK73H2ATTD26R1FTR-ND | F83: Datasheet
A84: 83 | B84: Resistor - 69Ω 0.1%(1/8W) (0805) | C84: Automotive AEC-Q200, Moisture Resistant Thin Film | D84: RN73R2ATTD69R0B25 | E84: 2019-RN73R2ATTD69R0B25TR-ND | F84: Datasheet
A85: 84 | B85: Resistor - 330Ω 1%(1/4W) (0805) | C85: RES 330 OHM 1% 1/4W 0805 | D85: RK73H2ATTD3300F | E85: 2019-RK73H2ATTD3300FCT-ND | F85: Datasheet
A86: 85 | B86: Resistor - 499Ω 1%(1/8W) (0805) | C86: RES 499 OHM 1% 1/8W 0805 | D86: RC0805FR-07499RL | E86: 311-499CRCT-ND | F86: Datasheet
A87: 86 | B87: Resistor - 1kΩ 5%(1/8W) (0805) | C87: RES 1K OHM 5% 1/8W 0805 | D87: RMCF0805JT1K00 | E87: RMCF0805JT1K00CT-ND | F87: Datasheet
A88: 87 | B88: Resistor - 1.5kΩ 1%(1/8W) (0805) | C88: RES 1.5K OHM 1% 1/8W 0805 | D88: RMCF0805FT1K50 | E88: RMCF0805FT1K50CT-ND | F88: Datasheet
A89: 88 | B89: Resistor - 1.91kΩ 0.5%(1/4W) (0805) | C89: Automotive AEC-Q200 Thick Film | D89: RK73H2ATTD1911D | E89: 2019-RK73H2ATTD1911DTR-ND | F89: Datasheet
A90: 89 | B90: Resistor - 2.2kΩ 5%(1/8W) (0805) | C90: RES 2.2K OHM 5% 1/8W 0805 | D90: RMCF0805JT2K20 | E90: RMCF0805JT2K20CT-ND | F90: Datasheet
A91: 90 | B91: Resistor - 3.16kΩ 0.5%(1/4W) (0805) | C91: Automotive AEC-Q200 Thick Film | D91: RK73H2ATTD8661D | E91: 2019-RK73H2ATTD8661DTR-ND | F91: Datasheet
A92: 91 | B92: Resistor - 5.11kΩ 1.0%(1/8W) (0805) | C92: Automotive AEC-Q200 Thick Film | D92: AC0805FR-075K11L | E92: 13-AC0805FR-075K11LTR-ND | F92: Datasheet
... A103: 102 | B103: Resistor - 33.2kΩ / 1% / (1/4W) (1206) | C103: Automotive AEC-Q200 Thick Film | D103: RK73H2BTTD3322F | E103: 2019-RK73H2BTTD3322FTR-ND | F103: Datasheet
A104: 103 | B104: Resistor - 150Ω / 5% / 1206 | C104: Resistor 1206 | D104: LRC01 96006
A105: 104 | B105: Resistor - 180Ω / 5% / 1206 | C105: Resistor 1206 | D105: LRC01 96008
A106: 105 | B106: Resistor - 0.9Ω / 5% / 1206 | C106: Resistor 1206
A107: 106 | B107: Resistor - 49.9Ω / 1% / (1/4W) 1206 | C107: Resistor 1206
A108: 107 | B108: Resistor - 150Ω / 5% / (1/4W) 1206 | C108: Resistor 1206
A109: 108 | B109: Resistor - 330Ω / 5% / (1/4W) 1206 | C109: Resistor 1206
A110: 109 | B110: Resistor - 1.1kΩ / 1% / 1206 | C110: Resistor 1206
A111: 110 | B111: Resistor - 2.2kΩ / 5% / (1/4W) 1206 | C111: Resistor 1206
A112: 111 | B112: Resistor - 4.7kΩ / 5% / (1/4W) 1206 | C112: Resistor 1206
A113: 112 | B113: Resistor - 100kΩ / 1% / 1206 | C113: Resistor 1206
A114: 113 | B114: Switch - Tactile | C114: SWITCH TACTILE SPST-NO 0.05A 12V | D114: PTS645SL43SMTR92 LFS | E114: CKN10880TR-ND | F114: Datasheet
A115: 114 | B115: Timer - TL555CDT | D115: TL555CDT | F115: Datasheet
A116: 115 | B116: Transistor - SS8050-G (SOT23-3) | C116: TRANS NPN 25V 1.5A | D116: SS8050-G | E116: 641-1790-1-ND | F116: Datasheet
A117: 116 | B117: Voltage Regulator - AP2112K-3.3TRG1 (SOT25) | C117: IC REG LINEAR 3.3V 600MA | D117: AP2112K-3.3TRG1 | E117: AP2112K-3.3TRG1DICT-ND | F117: Datasheet
A118: 117 | B118: Voltage Regulator - AZ1117CD-3.3TRG1 (TO252-2) | C118: IC REG LINEAR 3.3V 1A | D118: AZ1117CD-3.3TRG1 | E118: AZ1117CD-3.3TRG1DICT-ND | F118: Datasheet
A119: 118 | B119: Voltage Regulator - BD50FC0FP-E2 (TO252-3) | C119: IC REG LINEAR 5V 1A | D119: BD50FC0FP-E2 | E119: BD50FC0FP-E2CT-ND | F119: Datasheet
A120: 119 | B120: Voltage Regulator - LD1117-3.3 (SOT-223-3L) | C120: IC REG LINEAR 3.3V 1A | D120: LD1117-3.3 | E120: 4518-LD1117-3.3CT-ND | F120: Datasheet
A121: 120 | B121: Voltage Regulator - TLV73333PDBVT (SOT23-5) | C121: IC REG LINEAR 3.3V 300MA | D121: TLV73333PDBVT | E121: 296-38492-1-ND | F121: Datasheet
...

Sheet Inductors (Ask in E-Shop)
A1: Component | B1: Description | C1: Part Number | D1: Datasheet
A2: Surface Mount Wideband RF Transformers | B2: Surface mount wideband transformers / 300 V interwinding isolation, 1/4 Watt RF input power / 250 mA max current rating | C2: PWB-1-AL | D2: Datasheet
A3: Surface Mount Wideband RF Transformers | B3: Surface mount wideband transformers / 300 V interwinding isolation, 1/4 Watt RF input power / 250 mA max current rating | C3: PWB-1.5-AL | D3: Datasheet
A4: Surface Mount Wideband RF Transformers | B4: Surface mount wideband transformers / 300 V interwinding isolation, 1/4 Watt RF input power / 250 mA max current rating | C4: PWB-2-AL | D4: Datasheet
A5: Surface Mount Wideband RF Transformers | B5: Surface mount wideband transformers / 300 V interwinding isolation, 1/4 Watt RF input power / 250 mA max current rating | C5: PWB-4-AL | D5: Datasheet
A6: Surface Mount Wideband RF Transformers | B6: Surface mount wideband transformers / 300 V interwinding isolation, 1/4 Watt RF input power / 250 mA max current rating | C6: PWB-16-AL | D6: Datasheet
A7: Surface Mount Wideband RF Transformers | B7: Surface mount wideband transformers / 300 V interwinding isolation, 1/4 Watt RF input power / 250 mA max current rating | C7: PWB1010L | D7: Datasheet
A8: Surface Mount Wideband RF Transformers | B8: Surface mount wideband transformers / 300 V interwinding isolation, 1/4 Watt RF input power / 250 mA max current rating | C8: PWB1010-1L | D8: Datasheet
A9: Surface Mount Wideband RF Transformers | B9: Surface mount wideband transformers / 300 V interwinding isolation, 1/4 Watt RF input power / 250 mA max current rating | C9: PWB1015L | D9: Datasheet
A10: Surface Mount Wideband RF Transformers | B10: Surface mount wideband transformers / 300 V interwinding isolation, 1/4 Watt RF input power / 250 mA max current rating | C10: PWB1040L | D10: Datasheet
A11: Surface Mount Wideband RF Transformers | B11: Surface mount wideband transformers / 300 V interwinding isolation, 1/4 Watt RF input power / 250 mA max current rating | C11: PWB-1-BL | D11: Datasheet
A12: Surface Mount Wideband RF Transformers | B12: Surface mount wideband transformers / 300 V interwinding isolation, 1/4 Watt RF input power / 250 mA max current rating | C12: PWB-1.5-BL | D12: Datasheet
... A139: Low Pass LC Filter Modules | B139: 500 MHz | C139: P3LP-507L | D139: Datasheet
A140: Chip Inductors - 0603CS (1608) | B140: 1.6 @ 250MHz | D140: Datasheet
A141: Chip Inductors - 0603CS (1608) | B141: 1.8 @ 250MHz | D141: Datasheet
A142: Chip Inductors - 0603CS (1608) | B142: 2.2 @ 250MHz | D142: Datasheet
A143: Chip Inductors - 0603CS (1608) | B143: 3.3 @ 250MHz | D143: Datasheet
A144: Chip Inductors - 0603CS (1608) | B144: 3.6 @ 250MHz | D144: Datasheet
A145: Chip Inductors - 0603CS (1608) | B145: 3.9 @ 250MHz | D145: Datasheet
A146: Chip Inductors - 0603CS (1608) | B146: 4.3 @ 250MHz | D146: Datasheet
A147: Chip Inductors - 0603CS (1608) | B147: 4.7 @ 250MHz | D147: Datasheet
A148: Chip Inductors - 0603CS (1608) | B148: 5.1 @ 250MHz | D148: Datasheet
A149: Chip Inductors - 0603CS (1608) | B149: 5.6 @ 250MHz | D149: Datasheet
A150: Chip Inductors - 0603CS (1608) | B150: 6.8 @ 250MHz | D150: Datasheet
A151: Chip Inductors - 0603CS (1608) | B151: 7.5 @ 250MHz | D151: Datasheet
... A246: Chip Inductors - 1812CS (4532) | B246: 33 @ 7.9MHz | D246: Datasheet
